Package: rcellminer Version: 2.28.0 Command: chmod a+r rcellminer -R && F:\biocbuild\bbs-3.20-bioc\R\bin\R.exe CMD build --keep-empty-dirs --no-resave-data rcellminer StartedAt: 2025-02-10 21:26:44 -0500 (Mon, 10 Feb 2025) EndedAt: 2025-02-10 21:29:40 -0500 (Mon, 10 Feb 2025) EllapsedTime: 176.8 seconds RetCode: 0 Status: OK PackageFile: rcellminer_2.28.0.tar.gz PackageFileSize: 706.2 KiB