Package: rebook Version: 1.16.0 Command: rm -rf rebook.buildbin-libdir && mkdir rebook.buildbin-libdir && /Users/biocbuild/BBS/utils/build-universal.sh rebook_1.16.0.tar.gz /Library/Frameworks/R.framework/Resources/bin/R rebook.buildbin-libdir StartedAt: 2025-02-05 17:20:23 -0500 (Wed, 05 Feb 2025) EndedAt: 2025-02-05 17:20:30 -0500 (Wed, 05 Feb 2025) EllapsedTime: 6.8 seconds RetCode: 0 Status: OK PackageFile: rebook_1.16.0.tgz PackageFileSize: 327.5 KiB