Package: rebook Version: 1.16.0 Command: /Library/Frameworks/R.framework/Resources/bin/R CMD build --keep-empty-dirs --no-resave-data rebook StartedAt: 2025-02-11 06:20:15 -0500 (Tue, 11 Feb 2025) EndedAt: 2025-02-11 06:20:48 -0500 (Tue, 11 Feb 2025) EllapsedTime: 33.2 seconds RetCode: 0 Status: OK PackageFile: rebook_1.16.0.tar.gz PackageFileSize: 262.6 KiB