Package: rebook Version: 1.16.0 Command: /Library/Frameworks/R.framework/Resources/bin/R CMD check --install=check:rebook.install-out.txt --library=/Library/Frameworks/R.framework/Resources/library --no-vignettes --timings rebook_1.16.0.tar.gz StartedAt: 2025-02-12 06:20:42 -0500 (Wed, 12 Feb 2025) EndedAt: 2025-02-12 06:22:49 -0500 (Wed, 12 Feb 2025) EllapsedTime: 127.0 seconds RetCode: 0 Status: WARNINGS CheckDir: rebook.Rcheck Warnings: 2