Package: rebook Version: 1.16.0 Command: /home/biocbuild/bbs-3.20-bioc/R/bin/R CMD build --keep-empty-dirs --no-resave-data --md5 rebook StartedAt: 2025-02-10 18:48:21 -0500 (Mon, 10 Feb 2025) EndedAt: 2025-02-10 18:48:40 -0500 (Mon, 10 Feb 2025) EllapsedTime: 19.0 seconds RetCode: 0 Status: OK PackageFile: rebook_1.16.0.tar.gz PackageFileSize: 265.5 KiB