Package: rebook Version: 1.16.0 Command: rm -rf rebook.buildbin-libdir && mkdir rebook.buildbin-libdir && F:\biocbuild\bbs-3.20-bioc\R\bin\R.exe CMD INSTALL --build --library=rebook.buildbin-libdir rebook_1.16.0.tar.gz StartedAt: 2025-02-04 09:18:28 -0500 (Tue, 04 Feb 2025) EndedAt: 2025-02-04 09:18:48 -0500 (Tue, 04 Feb 2025) EllapsedTime: 20.0 seconds RetCode: 0 Status: OK PackageFile: rebook_1.16.0.zip PackageFileSize: 335.4 KiB