Package: rebook Version: 1.16.0 Command: /home/biocbuild/R/R/bin/R CMD build --keep-empty-dirs --no-resave-data rebook StartedAt: 2025-02-04 02:09:47 -0000 (Tue, 04 Feb 2025) EndedAt: 2025-02-04 02:10:15 -0000 (Tue, 04 Feb 2025) EllapsedTime: 28.0 seconds RetCode: 0 Status: OK PackageFile: rebook_1.16.0.tar.gz PackageFileSize: 288.3 KiB