Package: rebook Version: 1.16.0 Command: /home/biocbuild/R/R/bin/R CMD INSTALL rebook StartedAt: 2025-02-03 20:55:51 -0000 (Mon, 03 Feb 2025) EndedAt: 2025-02-03 20:55:57 -0000 (Mon, 03 Feb 2025) EllapsedTime: 6.1 seconds RetCode: 0 Status: OK