Package: recount Version: 1.32.0 Command: /Library/Frameworks/R.framework/Resources/bin/R CMD build --keep-empty-dirs --no-resave-data recount StartedAt: 2025-02-04 06:23:37 -0500 (Tue, 04 Feb 2025) EndedAt: 2025-02-04 06:33:48 -0500 (Tue, 04 Feb 2025) EllapsedTime: 611.0 seconds RetCode: 1 Status: ERROR PackageFile: None PackageFileSize: NA