Package: recount Version: 1.32.0 Command: /Library/Frameworks/R.framework/Resources/bin/R CMD check --install=check:recount.install-out.txt --library=/Library/Frameworks/R.framework/Resources/library --no-vignettes --timings recount_1.32.0.tar.gz StartedAt: 2025-02-01 06:10:37 -0500 (Sat, 01 Feb 2025) EndedAt: 2025-02-01 06:19:54 -0500 (Sat, 01 Feb 2025) EllapsedTime: 557.0 seconds RetCode: 0 Status: OK CheckDir: recount.Rcheck Warnings: 0