Package: recount Version: 1.32.0 Command: /home/biocbuild/R/R/bin/R CMD build --keep-empty-dirs --no-resave-data recount StartedAt: 2025-02-04 02:09:58 -0000 (Tue, 04 Feb 2025) EndedAt: 2025-02-04 02:49:58 -0000 (Tue, 04 Feb 2025) EllapsedTime: 2400.3 seconds RetCode: None Status: TIMEOUT PackageFile: None PackageFileSize: NA