Package: recount3 Version: 1.16.0 Command: /Library/Frameworks/R.framework/Resources/bin/R CMD build --keep-empty-dirs --no-resave-data recount3 StartedAt: 2025-02-03 21:37:23 -0500 (Mon, 03 Feb 2025) EndedAt: 2025-02-03 21:41:06 -0500 (Mon, 03 Feb 2025) EllapsedTime: 223.1 seconds RetCode: 0 Status: OK PackageFile: recount3_1.16.0.tar.gz PackageFileSize: 562.6 KiB