Package: recount3 Version: 1.16.0 Command: /Library/Frameworks/R.framework/Resources/bin/R CMD INSTALL recount3 StartedAt: 2025-02-03 15:39:24 -0500 (Mon, 03 Feb 2025) EndedAt: 2025-02-03 15:40:34 -0500 (Mon, 03 Feb 2025) EllapsedTime: 69.6 seconds RetCode: 0 Status: OK