Package: recount3 Version: 1.16.0 Command: /home/biocbuild/bbs-3.20-bioc/R/bin/R CMD INSTALL recount3 StartedAt: 2025-02-10 15:26:30 -0500 (Mon, 10 Feb 2025) EndedAt: 2025-02-10 15:27:00 -0500 (Mon, 10 Feb 2025) EllapsedTime: 30.4 seconds RetCode: 0 Status: OK