Package: recount3 Version: 1.16.0 Command: rm -rf recount3.buildbin-libdir && mkdir recount3.buildbin-libdir && F:\biocbuild\bbs-3.20-bioc\R\bin\R.exe CMD INSTALL --build --library=recount3.buildbin-libdir recount3_1.16.0.tar.gz StartedAt: 2025-02-04 09:18:44 -0500 (Tue, 04 Feb 2025) EndedAt: 2025-02-04 09:19:34 -0500 (Tue, 04 Feb 2025) EllapsedTime: 50.3 seconds RetCode: 0 Status: OK PackageFile: recount3_1.16.0.zip PackageFileSize: 647.9 KiB