Package: recount3 Version: 1.16.0 Command: F:\biocbuild\bbs-3.20-bioc\R\bin\R.exe CMD INSTALL recount3 StartedAt: 2025-02-03 16:31:51 -0500 (Mon, 03 Feb 2025) EndedAt: 2025-02-03 16:32:37 -0500 (Mon, 03 Feb 2025) EllapsedTime: 46.6 seconds RetCode: 0 Status: OK