Package: recount3 Version: 1.16.0 Command: /home/biocbuild/R/R/bin/R CMD build --keep-empty-dirs --no-resave-data recount3 StartedAt: 2025-02-04 02:10:04 -0000 (Tue, 04 Feb 2025) EndedAt: 2025-02-04 02:13:22 -0000 (Tue, 04 Feb 2025) EllapsedTime: 198.2 seconds RetCode: 1 Status: ERROR PackageFile: None PackageFileSize: NA