Package: recountmethylation Version: 1.16.0 Command: /Library/Frameworks/R.framework/Resources/bin/R CMD build --keep-empty-dirs --no-resave-data recountmethylation StartedAt: 2025-02-03 21:37:27 -0500 (Mon, 03 Feb 2025) EndedAt: 2025-02-03 21:40:27 -0500 (Mon, 03 Feb 2025) EllapsedTime: 180.0 seconds RetCode: 0 Status: OK PackageFile: recountmethylation_1.16.0.tar.gz PackageFileSize: 4.856 MiB