Package: recountmethylation Version: 1.16.0 Command: /home/biocbuild/bbs-3.20-bioc/R/bin/R CMD check --install=check:recountmethylation.install-out.txt --library=/home/biocbuild/bbs-3.20-bioc/R/site-library --timings recountmethylation_1.16.0.tar.gz StartedAt: 2025-02-11 01:30:08 -0500 (Tue, 11 Feb 2025) EndedAt: 2025-02-11 01:34:15 -0500 (Tue, 11 Feb 2025) EllapsedTime: 247.2 seconds RetCode: 0 Status: OK CheckDir: recountmethylation.Rcheck Warnings: 0