Package: recoup Version: 1.34.0 Command: /Library/Frameworks/R.framework/Resources/bin/R CMD build --keep-empty-dirs --no-resave-data recoup StartedAt: 2025-01-31 06:15:51 -0500 (Fri, 31 Jan 2025) EndedAt: 2025-01-31 06:17:04 -0500 (Fri, 31 Jan 2025) EllapsedTime: 73.0 seconds RetCode: 0 Status: OK PackageFile: recoup_1.34.0.tar.gz PackageFileSize: 2.252 MiB