Package: recoup Version: 1.34.0 Command: /Library/Frameworks/R.framework/Resources/bin/R CMD INSTALL recoup StartedAt: 2025-02-03 16:22:03 -0500 (Mon, 03 Feb 2025) EndedAt: 2025-02-03 16:22:54 -0500 (Mon, 03 Feb 2025) EllapsedTime: 50.7 seconds RetCode: 0 Status: OK