Package: recoup Version: 1.34.0 Command: /Library/Frameworks/R.framework/Resources/bin/R CMD check --install=check:recoup.install-out.txt --library=/Library/Frameworks/R.framework/Resources/library --no-vignettes --timings recoup_1.34.0.tar.gz StartedAt: 2024-11-09 11:02:50 -0500 (Sat, 09 Nov 2024) EndedAt: 2024-11-09 11:08:52 -0500 (Sat, 09 Nov 2024) EllapsedTime: 361.6 seconds RetCode: 0 Status: OK CheckDir: recoup.Rcheck Warnings: 0