Package: recoup Version: 1.34.0 Command: /home/biocbuild/bbs-3.20-bioc/R/bin/R CMD build --keep-empty-dirs --no-resave-data --md5 recoup StartedAt: 2025-01-30 18:46:37 -0500 (Thu, 30 Jan 2025) EndedAt: 2025-01-30 18:47:31 -0500 (Thu, 30 Jan 2025) EllapsedTime: 53.1 seconds RetCode: 0 Status: OK PackageFile: recoup_1.34.0.tar.gz PackageFileSize: 2.254 MiB