Package: recoup Version: 1.34.0 Command: F:\biocbuild\bbs-3.20-bioc\R\bin\R.exe CMD INSTALL recoup StartedAt: 2025-02-03 16:39:18 -0500 (Mon, 03 Feb 2025) EndedAt: 2025-02-03 16:40:20 -0500 (Mon, 03 Feb 2025) EllapsedTime: 62.0 seconds RetCode: 0 Status: OK