Package: recoup Version: 1.34.0 Command: /home/biocbuild/R/R/bin/R CMD build --keep-empty-dirs --no-resave-data recoup StartedAt: 2025-01-31 02:04:43 -0000 (Fri, 31 Jan 2025) EndedAt: 2025-01-31 02:05:54 -0000 (Fri, 31 Jan 2025) EllapsedTime: 71.1 seconds RetCode: 0 Status: OK PackageFile: recoup_1.34.0.tar.gz PackageFileSize: 2.318 MiB