Package: recoup Version: 1.34.0 Command: /home/biocbuild/R/R/bin/R CMD check --install=check:recoup.install-out.txt --library=/home/biocbuild/R/R/site-library --no-vignettes --timings recoup_1.34.0.tar.gz StartedAt: 2025-01-31 09:34:50 -0000 (Fri, 31 Jan 2025) EndedAt: 2025-01-31 09:43:06 -0000 (Fri, 31 Jan 2025) EllapsedTime: 495.5 seconds RetCode: 0 Status: OK CheckDir: recoup.Rcheck Warnings: 0