Package: recoup Version: 1.34.0 Command: /home/biocbuild/R/R/bin/R CMD INSTALL recoup StartedAt: 2025-01-30 20:36:03 -0000 (Thu, 30 Jan 2025) EndedAt: 2025-01-30 20:36:55 -0000 (Thu, 30 Jan 2025) EllapsedTime: 51.8 seconds RetCode: 0 Status: OK