Package: regionReport Version: 1.40.0 Command: rm -rf regionReport.buildbin-libdir && mkdir regionReport.buildbin-libdir && /Users/biocbuild/BBS/utils/build-universal.sh regionReport_1.40.0.tar.gz /Library/Frameworks/R.framework/Resources/bin/R regionReport.buildbin-libdir StartedAt: 2024-11-20 04:45:50 -0500 (Wed, 20 Nov 2024) EndedAt: 2024-11-20 04:46:57 -0500 (Wed, 20 Nov 2024) EllapsedTime: 67.6 seconds RetCode: 0 Status: OK PackageFile: regionReport_1.40.0.tgz PackageFileSize: 692.7 KiB