Package: regionReport Version: 1.40.0 Command: /Library/Frameworks/R.framework/Resources/bin/R CMD build --keep-empty-dirs --no-resave-data regionReport StartedAt: 2025-01-30 22:11:16 -0500 (Thu, 30 Jan 2025) EndedAt: 2025-01-30 22:13:31 -0500 (Thu, 30 Jan 2025) EllapsedTime: 134.8 seconds RetCode: 0 Status: OK PackageFile: regionReport_1.40.0.tar.gz PackageFileSize: 643.8 KiB