Package: regionReport Version: 1.40.0 Command: /Library/Frameworks/R.framework/Resources/bin/R CMD INSTALL regionReport StartedAt: 2025-01-30 16:00:41 -0500 (Thu, 30 Jan 2025) EndedAt: 2025-01-30 16:02:19 -0500 (Thu, 30 Jan 2025) EllapsedTime: 98.3 seconds RetCode: 0 Status: OK