Package: regionReport Version: 1.40.0 Command: /home/biocbuild/bbs-3.20-bioc/R/bin/R CMD check --install=check:regionReport.install-out.txt --library=/home/biocbuild/bbs-3.20-bioc/R/site-library --timings regionReport_1.40.0.tar.gz StartedAt: 2025-02-04 01:41:25 -0500 (Tue, 04 Feb 2025) EndedAt: 2025-02-04 01:50:29 -0500 (Tue, 04 Feb 2025) EllapsedTime: 544.7 seconds RetCode: 0 Status: OK CheckDir: regionReport.Rcheck Warnings: 0