Package: regionReport Version: 1.40.0 Command: /home/biocbuild/R/R/bin/R CMD build --keep-empty-dirs --no-resave-data regionReport StartedAt: 2025-01-31 02:05:54 -0000 (Fri, 31 Jan 2025) EndedAt: 2025-01-31 02:07:18 -0000 (Fri, 31 Jan 2025) EllapsedTime: 84.1 seconds RetCode: 0 Status: OK PackageFile: regionReport_1.40.0.tar.gz PackageFileSize: 775.7 KiB