Package: regionalpcs Version: 1.4.0 Command: /home/biocbuild/R/R/bin/R CMD INSTALL regionalpcs StartedAt: 2024-11-19 21:23:32 -0000 (Tue, 19 Nov 2024) EndedAt: 2024-11-19 21:23:34 -0000 (Tue, 19 Nov 2024) EllapsedTime: 2.3 seconds RetCode: 0 Status: OK