Package: regionalpcs Version: 1.4.0 Command: /home/biocbuild/bbs-3.20-bioc/R/bin/R CMD build --keep-empty-dirs --no-resave-data --md5 regionalpcs StartedAt: 2025-02-10 18:48:50 -0500 (Mon, 10 Feb 2025) EndedAt: 2025-02-10 18:49:20 -0500 (Mon, 10 Feb 2025) EllapsedTime: 29.0 seconds RetCode: 0 Status: OK PackageFile: regionalpcs_1.4.0.tar.gz PackageFileSize: 470.6 KiB