Package: regionalpcs Version: 1.4.0 Command: /home/biocbuild/bbs-3.20-bioc/R/bin/R CMD INSTALL regionalpcs StartedAt: 2025-02-10 15:56:16 -0500 (Mon, 10 Feb 2025) EndedAt: 2025-02-10 15:56:18 -0500 (Mon, 10 Feb 2025) EllapsedTime: 2.1 seconds RetCode: 0 Status: OK