Package: regionalpcs Version: 1.4.0 Command: rm -rf regionalpcs.buildbin-libdir && mkdir regionalpcs.buildbin-libdir && F:\biocbuild\bbs-3.20-bioc\R\bin\R.exe CMD INSTALL --build --library=regionalpcs.buildbin-libdir regionalpcs_1.4.0.tar.gz StartedAt: 2025-02-11 09:16:16 -0500 (Tue, 11 Feb 2025) EndedAt: 2025-02-11 09:16:31 -0500 (Tue, 11 Feb 2025) EllapsedTime: 15.2 seconds RetCode: 0 Status: OK PackageFile: regionalpcs_1.4.0.zip PackageFileSize: 480 KiB