Package: regionalpcs Version: 1.4.0 Command: chmod a+r regionalpcs -R && F:\biocbuild\bbs-3.20-bioc\R\bin\R.exe CMD build --keep-empty-dirs --no-resave-data regionalpcs StartedAt: 2025-02-03 21:36:17 -0500 (Mon, 03 Feb 2025) EndedAt: 2025-02-03 21:37:01 -0500 (Mon, 03 Feb 2025) EllapsedTime: 43.8 seconds RetCode: 0 Status: OK PackageFile: regionalpcs_1.4.0.tar.gz PackageFileSize: 470.1 KiB