Package: regionalpcs Version: 1.4.0 Command: F:\biocbuild\bbs-3.20-bioc\R\bin\R.exe CMD check --no-multiarch --install=check:regionalpcs.install-out.txt --library=F:\biocbuild\bbs-3.20-bioc\R\library --no-vignettes --timings regionalpcs_1.4.0.tar.gz StartedAt: 2025-02-11 05:19:46 -0500 (Tue, 11 Feb 2025) EndedAt: 2025-02-11 05:20:36 -0500 (Tue, 11 Feb 2025) EllapsedTime: 50.1 seconds RetCode: 0 Status: OK CheckDir: regionalpcs.Rcheck Warnings: 0