Package: regioneR Version: 1.38.0 Command: rm -rf regioneR.buildbin-libdir && mkdir regioneR.buildbin-libdir && /Users/biocbuild/BBS/utils/build-universal.sh regioneR_1.38.0.tar.gz /Library/Frameworks/R.framework/Resources/bin/R regioneR.buildbin-libdir StartedAt: 2025-02-01 16:26:05 -0500 (Sat, 01 Feb 2025) EndedAt: 2025-02-01 16:26:49 -0500 (Sat, 01 Feb 2025) EllapsedTime: 44.0 seconds RetCode: 0 Status: OK PackageFile: regioneR_1.38.0.tgz PackageFileSize: 1.803 MiB