Package: regioneR Version: 1.38.0 Command: /Library/Frameworks/R.framework/Resources/bin/R CMD build --keep-empty-dirs --no-resave-data regioneR StartedAt: 2025-02-04 06:27:31 -0500 (Tue, 04 Feb 2025) EndedAt: 2025-02-04 06:29:33 -0500 (Tue, 04 Feb 2025) EllapsedTime: 122.0 seconds RetCode: 0 Status: OK PackageFile: regioneR_1.38.0.tar.gz PackageFileSize: 1.878 MiB