Package: regioneR Version: 1.38.0 Command: /home/biocbuild/bbs-3.20-bioc/R/bin/R CMD build --keep-empty-dirs --no-resave-data --md5 regioneR StartedAt: 2025-02-03 18:56:40 -0500 (Mon, 03 Feb 2025) EndedAt: 2025-02-03 18:58:19 -0500 (Mon, 03 Feb 2025) EllapsedTime: 99.1 seconds RetCode: 0 Status: OK PackageFile: regioneR_1.38.0.tar.gz PackageFileSize: 1.99 MiB