Package: regioneR Version: 1.38.0 Command: F:\biocbuild\bbs-3.20-bioc\R\bin\R.exe CMD INSTALL regioneR StartedAt: 2025-01-30 16:09:53 -0500 (Thu, 30 Jan 2025) EndedAt: 2025-01-30 16:10:44 -0500 (Thu, 30 Jan 2025) EllapsedTime: 51.0 seconds RetCode: 0 Status: OK