Package: regioneR Version: 1.38.0 Command: /home/biocbuild/R/R/bin/R CMD build --keep-empty-dirs --no-resave-data regioneR StartedAt: 2025-02-04 02:11:15 -0000 (Tue, 04 Feb 2025) EndedAt: 2025-02-04 02:13:18 -0000 (Tue, 04 Feb 2025) EllapsedTime: 123.1 seconds RetCode: 0 Status: OK PackageFile: regioneR_1.38.0.tar.gz PackageFileSize: 1.778 MiB