Package: regioneR Version: 1.38.0 Command: /home/biocbuild/R/R/bin/R CMD INSTALL regioneR StartedAt: 2025-02-03 20:41:44 -0000 (Mon, 03 Feb 2025) EndedAt: 2025-02-03 20:42:24 -0000 (Mon, 03 Feb 2025) EllapsedTime: 40.2 seconds RetCode: 0 Status: OK