Package: regioneReloaded Version: 1.8.0 Command: /Library/Frameworks/R.framework/Resources/bin/R CMD build --keep-empty-dirs --no-resave-data regioneReloaded StartedAt: 2025-02-03 21:38:05 -0500 (Mon, 03 Feb 2025) EndedAt: 2025-02-03 21:40:42 -0500 (Mon, 03 Feb 2025) EllapsedTime: 156.5 seconds RetCode: 0 Status: OK PackageFile: regioneReloaded_1.8.0.tar.gz PackageFileSize: 4.013 MiB