Package: regioneReloaded Version: 1.8.0 Command: /home/biocbuild/bbs-3.20-bioc/R/bin/R CMD build --keep-empty-dirs --no-resave-data --md5 regioneReloaded StartedAt: 2025-02-03 18:56:54 -0500 (Mon, 03 Feb 2025) EndedAt: 2025-02-03 18:58:09 -0500 (Mon, 03 Feb 2025) EllapsedTime: 75.1 seconds RetCode: 0 Status: OK PackageFile: regioneReloaded_1.8.0.tar.gz PackageFileSize: 4.146 MiB