Package: regioneReloaded Version: 1.8.0 Command: /home/biocbuild/bbs-3.20-bioc/R/bin/R CMD INSTALL regioneReloaded StartedAt: 2025-02-03 15:33:07 -0500 (Mon, 03 Feb 2025) EndedAt: 2025-02-03 15:33:43 -0500 (Mon, 03 Feb 2025) EllapsedTime: 36.0 seconds RetCode: 0 Status: OK