Package: regioneReloaded Version: 1.8.0 Command: /home/biocbuild/R/R/bin/R CMD build --keep-empty-dirs --no-resave-data regioneReloaded StartedAt: 2025-02-11 01:50:40 -0000 (Tue, 11 Feb 2025) EndedAt: 2025-02-11 01:52:24 -0000 (Tue, 11 Feb 2025) EllapsedTime: 104.0 seconds RetCode: 0 Status: OK PackageFile: regioneReloaded_1.8.0.tar.gz PackageFileSize: 2.433 MiB