Package: regutools Version: 1.18.0 Command: /Library/Frameworks/R.framework/Resources/bin/R CMD build --keep-empty-dirs --no-resave-data regutools StartedAt: 2025-01-31 06:19:48 -0500 (Fri, 31 Jan 2025) EndedAt: 2025-01-31 06:21:38 -0500 (Fri, 31 Jan 2025) EllapsedTime: 109.8 seconds RetCode: 0 Status: OK PackageFile: regutools_1.18.0.tar.gz PackageFileSize: 379.2 KiB