Package: regutools Version: 1.18.0 Command: rm -rf regutools.buildbin-libdir && mkdir regutools.buildbin-libdir && /Users/biocbuild/BBS/utils/build-universal.sh regutools_1.18.0.tar.gz /Library/Frameworks/R.framework/Resources/bin/R regutools.buildbin-libdir StartedAt: 2025-01-31 13:29:46 -0500 (Fri, 31 Jan 2025) EndedAt: 2025-01-31 13:31:44 -0500 (Fri, 31 Jan 2025) EllapsedTime: 117.9 seconds RetCode: 0 Status: OK PackageFile: regutools_1.18.0.tgz PackageFileSize: 943.5 KiB